BEGIN:VCALENDAR
VERSION:2.0
PRODID:-//Salon Krehan - ECPv6.15.13.1//NONSGML v1.0//EN
CALSCALE:GREGORIAN
METHOD:PUBLISH
X-WR-CALNAME:Salon Krehan
X-ORIGINAL-URL:https://salonkrehan.de
X-WR-CALDESC:Veranstaltungen für Salon Krehan
REFRESH-INTERVAL;VALUE=DURATION:PT1H
X-Robots-Tag:noindex
X-PUBLISHED-TTL:PT1H
BEGIN:VTIMEZONE
TZID:Europe/Berlin
BEGIN:DAYLIGHT
TZOFFSETFROM:+0100
TZOFFSETTO:+0200
TZNAME:CEST
DTSTART:20250330T010000
END:DAYLIGHT
BEGIN:STANDARD
TZOFFSETFROM:+0200
TZOFFSETTO:+0100
TZNAME:CET
DTSTART:20251026T010000
END:STANDARD
BEGIN:DAYLIGHT
TZOFFSETFROM:+0100
TZOFFSETTO:+0200
TZNAME:CEST
DTSTART:20260329T010000
END:DAYLIGHT
BEGIN:STANDARD
TZOFFSETFROM:+0200
TZOFFSETTO:+0100
TZNAME:CET
DTSTART:20261025T010000
END:STANDARD
BEGIN:DAYLIGHT
TZOFFSETFROM:+0100
TZOFFSETTO:+0200
TZNAME:CEST
DTSTART:20270328T010000
END:DAYLIGHT
BEGIN:STANDARD
TZOFFSETFROM:+0200
TZOFFSETTO:+0100
TZNAME:CET
DTSTART:20271031T010000
END:STANDARD
END:VTIMEZONE
BEGIN:VEVENT
DTSTART;TZID=Europe/Berlin:20261206T160000
DTEND;TZID=Europe/Berlin:20261206T180000
DTSTAMP:20260419T153829
CREATED:20260113T124335Z
LAST-MODIFIED:20260113T124336Z
UID:996-1796572800-1796580000@salonkrehan.de
SUMMARY:Konzert "Fränkische Weihnacht"
DESCRIPTION:Vorstadtverein Alt-Gründlach \n\n\n\n\n\nnähere Infos folgen
URL:https://salonkrehan.de/event/konzert-fraenkische-weihnacht/
END:VEVENT
END:VCALENDAR